BEGIN:VCALENDAR
VERSION:2.0
PRODID:-//Tulare County AA - ECPv6.15.20//NONSGML v1.0//EN
CALSCALE:GREGORIAN
METHOD:PUBLISH
X-WR-CALNAME:Tulare County AA
X-ORIGINAL-URL:https://aa-tulareco.org
X-WR-CALDESC:Events for Tulare County AA
REFRESH-INTERVAL;VALUE=DURATION:PT1H
X-Robots-Tag:noindex
X-PUBLISHED-TTL:PT1H
BEGIN:VTIMEZONE
TZID:America/Los_Angeles
BEGIN:DAYLIGHT
TZOFFSETFROM:-0800
TZOFFSETTO:-0700
TZNAME:PDT
DTSTART:20250309T100000
END:DAYLIGHT
BEGIN:STANDARD
TZOFFSETFROM:-0700
TZOFFSETTO:-0800
TZNAME:PST
DTSTART:20251102T090000
END:STANDARD
BEGIN:DAYLIGHT
TZOFFSETFROM:-0800
TZOFFSETTO:-0700
TZNAME:PDT
DTSTART:20260308T100000
END:DAYLIGHT
BEGIN:STANDARD
TZOFFSETFROM:-0700
TZOFFSETTO:-0800
TZNAME:PST
DTSTART:20261101T090000
END:STANDARD
BEGIN:DAYLIGHT
TZOFFSETFROM:-0800
TZOFFSETTO:-0700
TZNAME:PDT
DTSTART:20270314T100000
END:DAYLIGHT
BEGIN:STANDARD
TZOFFSETFROM:-0700
TZOFFSETTO:-0800
TZNAME:PST
DTSTART:20271107T090000
END:STANDARD
END:VTIMEZONE
BEGIN:VEVENT
DTSTART;TZID=America/Los_Angeles:20260425T110000
DTEND;TZID=America/Los_Angeles:20260425T160000
DTSTAMP:20260421T034806
CREATED:20260415T183605Z
LAST-MODIFIED:20260415T183605Z
UID:10000565-1777114800-1777132800@aa-tulareco.org
SUMMARY:District 49 Unity Day 2026
DESCRIPTION:A.A. DISTRICT 49\nUNITY DAY\nApril 25th at 11am\nHickey Park Area 32\nHamburgers & Hot Dogs\nWater & Coffee provided\n(Bring a side dish to share!)\nSpeakers start at 1pm\nOpening Speaker: Laura U.\nSobriety date – 10/29/17\nOakdale\, CA\nMain Speaker: Holly J. (Alt. Delegate)\nSobriety date – 11/22/98\nAuburn\, CA\n50/50 Raffles • Corn Hole • Music\nand More\nDon’t be a\nSTICK\nin the MUD!\n“.. To see a fellowship grow up about you\,\nto have a host of friends— this is an experience\nyou must not miss. We know you will\nnot want to miss it!”\n— Alcoholics Anonymous pg. 89
URL:https://aa-tulareco.org/event/district-49-unity-day-2026/
LOCATION:Hickey Park\, Hickey Park Dr\, Hanford\, CA\, 93230\, United States
CATEGORIES:Event,Potluck,Speaker Meeting
ATTACH;FMTTYPE=image/png:https://aa-tulareco.org/wp-content/uploads/2026/04/D49_Unity_Day_2026.png
END:VEVENT
BEGIN:VEVENT
DTSTART;TZID=America/Los_Angeles:20260425T130000
DTEND;TZID=America/Los_Angeles:20260425T140000
DTSTAMP:20260421T034806
CREATED:20250220T141217Z
LAST-MODIFIED:20251020T191426Z
UID:10000321-1777122000-1777125600@aa-tulareco.org
SUMMARY:Bridge Street Drunks Only monthly business meeting
DESCRIPTION:Bridge Street Drunks Only monthly business meeting is held the last Saturday of the month at 1:00 PM.
URL:https://aa-tulareco.org/event/bridge-street-drunks-only-monthly-business-meeting/2026-04-25/
LOCATION:Bridge Street Drunks Only
CATEGORIES:Business Meeting
END:VEVENT
BEGIN:VEVENT
DTSTART;TZID=America/Los_Angeles:20260427T180000
DTEND;TZID=America/Los_Angeles:20260427T200000
DTSTAMP:20260421T034806
CREATED:20260413T184459Z
LAST-MODIFIED:20260413T184602Z
UID:10000563-1777312800-1777320000@aa-tulareco.org
SUMMARY:Primary Purpose 12 Step Workshop
DESCRIPTION:12 Step Workshop\nA 24-Week Big Book-Focused Step Study Group\nBeginning Monday\, April 13\, 2026\n6:00 PM – 8:00 PM\n526 N. Bridge St.\, Visalia\, CA \nAbout the Workshop\nA structured\, Big Book—centered workshop guiding participants through the 12 Steps as outlined in the Big Book of Alcoholics Anonymous. \nAbout the Workshop \n\nClear understanding of each Step\nApplying the Big Book directions as written\nSpiritual growth through action\nFellowship\, accountability\, and shared experience\n\nSchedule \n\nMeets every Monday night\n24 consecutive weeks\nApril 13\, 2026 — September 28\, 2026\n6:00 PM — 8:00 PM\n\nWho Is Welcome \n\nNewcomers\nLong-timers\nSponsors & sponsees\nAnyone seeking a deeper Big Book experience\n\nLocation \n526 N. Bridge St.\nVisalia\, CA \n 
URL:https://aa-tulareco.org/event/primary-purpose-12-step-workshop-2/2026-04-27/
LOCATION:Bridge Street Drunks Only
CATEGORIES:Workshop
ATTACH;FMTTYPE=image/jpeg:https://aa-tulareco.org/wp-content/uploads/2026/04/Primary_Purpose_2026_Spring_12_Step_Workshop_Flyer.jpg
END:VEVENT
END:VCALENDAR